Workbook
Name DESC: 'Lista de Precios'!$G$4

Sheet Lista de Precios
D3: LISTA DE PRECIOS 1 | G3: SUJETA A CAMBIOS SIN PREVIO AVISO
D4: Fecha de Emisión: | E4: 46308 | G4: 0 | H4: DESCUENTO
D5: Fecha de factura: | E5: =TODAY() -> 46314 | G5: CLIENTE:
D6: PRESUPUESTO VALIDO POR 72 Hs. | G6: ENVIOS A TODO EL PAÍS
D7: Mail: diferventas@outlook.com Tel: 1130369917 www.diferventas.com
A9: ADHESIVOS
A10: CÓDIGO | B10: CODIGO | C10: DENOMINACIÓN | D10: PRESENTACIÓN | E10: PRECIO LISTA | F10: PRECIO CON | G10: CANTIDAD | H10: DESCUENTO | I10: SUBTOTAL
B11: PROVEEDOR | D11: POR BULTO | E11: UNITARIO S/IVA | F11: DESCUENTO | H11: ADICIONAL
F12: =E12-(E12*DESC) -> 0 | H12: % | I12: =F12*G12 -> 0
A13: 13002 | B13: CONGO | C13: =VLOOKUP(A13,Datos!$A$10:$E$1594,3,FALSE) -> ADHESIVO VINILICO 500 gr | D13: =VLOOKUP(A13,Datos!$A$10:$E$1594,4,FALSE) -> 12 | E13: =VLOOKUP(A13,Datos!$A$10:$E$1594,5,FALSE) -> 3526.4 | F13: =E13-(E13*DESC) -> 3526.4 | I13: =(F13-F13*H13/100)*G13 -> 0
A14: 5100 | B14: TF3 | C14: =VLOOKUP(A14,Datos!$A$10:$E$1594,3,FALSE) -> ADHESIVO VINILICO 125 G | D14: =VLOOKUP(A14,Datos!$A$10:$E$1594,4,FALSE) -> 12 | E14: =VLOOKUP(A14,Datos!$A$10:$E$1594,5,FALSE) -> 1182.52 | F14: =E14-(E14*DESC) -> 1182.52 | I14: =(F14-F14*H14/100)*G14 -> 0
A15: 5101 | B15: TF3 | C15: =VLOOKUP(A15,Datos!$A$10:$E$1594,3,FALSE) -> ADHESIVO VINILICO 250 G | D15: =VLOOKUP(A15,Datos!$A$10:$E$1594,4,FALSE) -> 12 | E15: =VLOOKUP(A15,Datos!$A$10:$E$1594,5,FALSE) -> 1987.28 | F15: =E15-(E15*DESC) -> 1987.28 | I15: =(F15-F15*H15/100)*G15 -> 0
A16: 5102 | B16: TF3 | C16: =VLOOKUP(A16,Datos!$A$10:$E$1594,3,FALSE) -> ADHESIVO VINILICO 500 G | D16: =VLOOKUP(A16,Datos!$A$10:$E$1594,4,FALSE) -> 12 | E16: =VLOOKUP(A16,Datos!$A$10:$E$1594,5,FALSE) -> 3444.29 | F16: =E16-(E16*DESC) -> 3444.29 | I16: =(F16-F16*H16/100)*G16 -> 0
A17: 5103 | B17: TF3 | C17: =VLOOKUP(A17,Datos!$A$10:$E$1594,3,FALSE) -> ADHESIVO VINILICO 1000 G | D17: =VLOOKUP(A17,Datos!$A$10:$E$1594,4,FALSE) -> 6 | E17: =VLOOKUP(A17,Datos!$A$10:$E$1594,5,FALSE) -> 6332.45 | F17: =E17-(E17*DESC) -> 6332.45 | I17: =(F17-F17*H17/100)*G17 -> 0
A18: 8022 | B18: PEGALO | C18: =VLOOKUP(A18,Datos!$A$10:$E$1594,3,FALSE) -> ADHESIVO DE CONTACTO 125cc | D18: =VLOOKUP(A18,Datos!$A$10:$E$1594,4,FALSE) -> 24 | E18: =VLOOKUP(A18,Datos!$A$10:$E$1594,5,FALSE) -> 3307.76 | F18: =E18-(E18*DESC) -> 3307.76 | I18: =(F18-F18*H18/100)*G18 -> 0
A19: 8023 | B19: PEGALO | C19: =VLOOKUP(A19,Datos!$A$10:$E$1594,3,FALSE) -> ADHESIVO DE CONTACTO 250cc | D19: =VLOOKUP(A19,Datos!$A$10:$E$1594,4,FALSE) -> 12 | E19: =VLOOKUP(A19,Datos!$A$10:$E$1594,5,FALSE) -> 4134.65 | F19: =E19-(E19*DESC) -> 4134.65 | I19: =(F19-F19*H19/100)*G19 -> 0
A20: 8024 | B20: PEGALO | C20: =VLOOKUP(A20,Datos!$A$10:$E$1594,3,FALSE) -> ADHESIVO DE CONTACTO 500cc | D20: =VLOOKUP(A20,Datos!$A$10:$E$1594,4,FALSE) -> 6 | E20: =VLOOKUP(A20,Datos!$A$10:$E$1594,5,FALSE) -> 7726.73 | F20: =E20-(E20*DESC) -> 7726.73 | I20: =(F20-F20*H20/100)*G20 -> 0
A21: 5099 | B21: TF3 | C21: =VLOOKUP(A21,Datos!$A$10:$E$1594,3,FALSE) -> ADHESIVO CONTACTO 50 CC (POMO) | D21: =VLOOKUP(A21,Datos!$A$10:$E$1594,4,FALSE) -> 24 | E21: =VLOOKUP(A21,Datos!$A$10:$E$1594,5,FALSE) -> 2089.67 | F21: =E21-(E21*DESC) -> 2089.67 | I21: =(F21-F21*H21/100)*G21 -> 0
A22: 13008 | B22: CONGO | C22: =VLOOKUP(A22,Datos!$A$10:$E$1594,3,FALSE) -> ADHESIVO DE CONTACTO C-2100 40 ml | D22: =VLOOKUP(A22,Datos!$A$10:$E$1594,4,FALSE) -> 18 | E22: =VLOOKUP(A22,Datos!$A$10:$E$1594,5,FALSE) -> 2644.8 | F22: =E22-(E22*DESC) -> 2644.8 | I22: =(F22-F22*H22/100)*G22 -> 0
A23: 5017 | B23: TF3 | C23: =VLOOKUP(A23,Datos!$A$10:$E$1594,3,FALSE) -> ADHESIVO PARA PVC 60 cc | D23: =VLOOKUP(A23,Datos!$A$10:$E$1594,4,FALSE) -> 12 | E23: =VLOOKUP(A23,Datos!$A$10:$E$1594,5,FALSE) -> 1650.12 | F23: =E23-(E23*DESC) -> 1650.12 | I23: =(F23-F23*H23/100)*G23 -> 0
A24: 5018 | B24: TF3 | C24: =VLOOKUP(A24,Datos!$A$10:$E$1594,3,FALSE) -> ADHESIVO PARA PVC 110 cc | D24: =VLOOKUP(A24,Datos!$A$10:$E$1594,4,FALSE) -> 12 | E24: =VLOOKUP(A24,Datos!$A$10:$E$1594,5,FALSE) -> 2796.84 | F24: =E24-(E24*DESC) -> 2796.84 | I24: =(F24-F24*H24/100)*G24 -> 0
... A29: 8013 | B29: PEGALO | C29: =VLOOKUP(A29,Datos!$A$10:$E$1594,3,FALSE) -> CIANOACRILATO FRASCO 20 Gr | D29: =VLOOKUP(A29,Datos!$A$10:$E$1594,4,FALSE) -> 10 | E29: =VLOOKUP(A29,Datos!$A$10:$E$1594,5,FALSE) -> 3360.4 | F29: =E29-(E29*DESC) -> 3360.4 | I29: =(F29-F29*H29/100)*G29 -> 0
A30: ACCESORIOS
A31: 14182 | B31: 11546 | C31: =VLOOKUP(A31,Datos!$A$10:$E$1594,3,FALSE) -> PISTOLA APLICADORA CARTUCHO REFORZADA | D31: =VLOOKUP(A31,Datos!$A$10:$E$1594,4,FALSE) -> 0 | E31: =VLOOKUP(A31,Datos!$A$10:$E$1594,5,FALSE) -> 7538.01 | F31: =E31-(E31*DESC) -> 7538.01 | I31: =(F31-F31*H31/100)*G31 -> 0
A32: KIT DE REPARACIÓN
A33: 5082 | B33: TF3 | C33: =VLOOKUP(A33,Datos!$A$10:$E$1594,3,FALSE) -> KIT REPARACION LONAS (PILETAS) | D33: =VLOOKUP(A33,Datos!$A$10:$E$1594,4,FALSE) -> 50 | E33: =VLOOKUP(A33,Datos!$A$10:$E$1594,5,FALSE) -> 2125.92 | F33: =E33-(E33*DESC) -> 2125.92 | I33: =(F33-F33*H33/100)*G33 -> 0
A34: 14180 | B34: 9931 | C34: =VLOOKUP(A34,Datos!$A$10:$E$1594,3,FALSE) -> PARCHE BICICLETA 24u (5x3 cm) +1 PEGAMEN | D34: =VLOOKUP(A34,Datos!$A$10:$E$1594,4,FALSE) -> 10 | E34: =VLOOKUP(A34,Datos!$A$10:$E$1594,5,FALSE) -> 2095.88 | F34: =E34-(E34*DESC) -> 2095.88 | I34: =(F34-F34*H34/100)*G34 -> 0
A35: SELLADORES
A36: 5066 | B36: TF3 | C36: =VLOOKUP(A36,Datos!$A$10:$E$1594,3,FALSE) -> AEROSOL POLIURETANO 300ml | D36: =VLOOKUP(A36,Datos!$A$10:$E$1594,4,FALSE) -> 12 | E36: =VLOOKUP(A36,Datos!$A$10:$E$1594,5,FALSE) -> 7704.4 | F36: =E36-(E36*DESC) -> 7704.4 | I36: =(F36-F36*H36/100)*G36 -> 0
A37: 5016 | B37: TF3 | C37: =VLOOKUP(A37,Datos!$A$10:$E$1594,3,FALSE) -> SELLADOR DE ROSCAS 25 cc | D37: =VLOOKUP(A37,Datos!$A$10:$E$1594,4,FALSE) -> 80 | E37: =VLOOKUP(A37,Datos!$A$10:$E$1594,5,FALSE) -> 1372.47 | F37: =E37-(E37*DESC) -> 1372.47 | I37: =(F37-F37*H37/100)*G37 -> 0
A38: 5095 | B38: TF3 | C38: =VLOOKUP(A38,Datos!$A$10:$E$1594,3,FALSE) -> SELLADOR DE SILICONA 25 cm3 | D38: =VLOOKUP(A38,Datos!$A$10:$E$1594,4,FALSE) -> 40 | E38: =VLOOKUP(A38,Datos!$A$10:$E$1594,5,FALSE) -> 1694.05 | F38: =E38-(E38*DESC) -> 1694.05 | I38: =(F38-F38*H38/100)*G38 -> 0
A39: 8005 | B39: PEGALO | C39: =VLOOKUP(A39,Datos!$A$10:$E$1594,3,FALSE) -> ADHESIVO SILICONADO BARRAS FINO 7 * 300 | D39: =VLOOKUP(A39,Datos!$A$10:$E$1594,4,FALSE) -> 0 | E39: =VLOOKUP(A39,Datos!$A$10:$E$1594,5,FALSE) -> 13891.82 | F39: =E39-(E39*DESC) -> 13891.82 | I39: =(F39-F39*H39/100)*G39 -> 0
A40: 8006 | B40: PEGALO | C40: =VLOOKUP(A40,Datos!$A$10:$E$1594,3,FALSE) -> ADHESIVO SILICONADO BARRAS GRUESO 11*300 | D40: =VLOOKUP(A40,Datos!$A$10:$E$1594,4,FALSE) -> 0 | E40: =VLOOKUP(A40,Datos!$A$10:$E$1594,5,FALSE) -> 13891.82 | F40: =E40-(E40*DESC) -> 13891.82 | I40: =(F40-F40*H40/100)*G40 -> 0
A41: 8001 | B41: PEGALO | C41: =VLOOKUP(A41,Datos!$A$10:$E$1594,3,FALSE) -> SELLADOR SILICONA BLANCA CARTUCHO 280cc | D41: =VLOOKUP(A41,Datos!$A$10:$E$1594,4,FALSE) -> 24 | E41: =VLOOKUP(A41,Datos!$A$10:$E$1594,5,FALSE) -> 4122.32 | F41: =E41-(E41*DESC) -> 4122.32 | I41: =(F41-F41*H41/100)*G41 -> 0
A42: 8003 | B42: PEGALO | C42: =VLOOKUP(A42,Datos!$A$10:$E$1594,3,FALSE) -> SELLADOR SILICONAS ALTA TEMP CART 280 cc | D42: =VLOOKUP(A42,Datos!$A$10:$E$1594,4,FALSE) -> 24 | E42: =VLOOKUP(A42,Datos!$A$10:$E$1594,5,FALSE) -> 5700.32 | F42: =E42-(E42*DESC) -> 5700.32 | I42: =(F42-F42*H42/100)*G42 -> 0
A43: 8004 | B43: PEGALO | C43: =VLOOKUP(A43,Datos!$A$10:$E$1594,3,FALSE) -> SELLADOR SILICONA NEUTRA CARTUCHO 280 cc | D43: =VLOOKUP(A43,Datos!$A$10:$E$1594,4,FALSE) -> 24 | E43: =VLOOKUP(A43,Datos!$A$10:$E$1594,5,FALSE) -> 5246.22 | F43: =E43-(E43*DESC) -> 5246.22 | I43: =(F43-F43*H43/100)*G43 -> 0
A44: 8018 | B44: PEGALO | C44: =VLOOKUP(A44,Datos!$A$10:$E$1594,3,FALSE) -> ADHESIVO SELLADOR ZINGUERIA 280cc | D44: =VLOOKUP(A44,Datos!$A$10:$E$1594,4,FALSE) -> 24 | E44: =VLOOKUP(A44,Datos!$A$10:$E$1594,5,FALSE) -> 5810.05 | F44: =E44-(E44*DESC) -> 5810.05 | I44: =(F44-F44*H44/100)*G44 -> 0
A45: 8019 | B45: PEGALO | C45: =VLOOKUP(A45,Datos!$A$10:$E$1594,3,FALSE) -> SELLADOR SILICONA NEGRA CARTUCHO 280cc | D45: =VLOOKUP(A45,Datos!$A$10:$E$1594,4,FALSE) -> 24 | E45: =VLOOKUP(A45,Datos!$A$10:$E$1594,5,FALSE) -> 4122.32 | F45: =E45-(E45*DESC) -> 4122.32 | I45: =(F45-F45*H45/100)*G45 -> 0
A46: 8026 | B46: PEGALO | C46: =VLOOKUP(A46,Datos!$A$10:$E$1594,3,FALSE) -> SELLADOR ACRILICO 280cc PINTABLE | D46: =VLOOKUP(A46,Datos!$A$10:$E$1594,4,FALSE) -> 24 | E46: =VLOOKUP(A46,Datos!$A$10:$E$1594,5,FALSE) -> 3398.53 | F46: =E46-(E46*DESC) -> 3398.53 | I46: =(F46-F46*H46/100)*G46 -> 0
A47: 8021 | B47: PEGALO | C47: =VLOOKUP(A47,Datos!$A$10:$E$1594,3,FALSE) -> SELLADOR SILICONA TRANSPARENTE CARTUCHO | D47: =VLOOKUP(A47,Datos!$A$10:$E$1594,4,FALSE) -> 24 | E47: =VLOOKUP(A47,Datos!$A$10:$E$1594,5,FALSE) -> 4122.32 | F47: =E47-(E47*DESC) -> 4122.32 | I47: =(F47-F47*H47/100)*G47 -> 0
...

Sheet Datos
A1: DIFER | D1: Lista de Precios
A2: VENTA | D2: Fecha de Emisión:13/10/2026
A5: diferventas@outlook.com.ar
A6: WWW.DIFERVENTAS.COM | E6: Precio de Lista 1
A8: Código | B8: Cód.Proveedor | C8: Denominación | D8: Presentación | E8: Precio s/IVA | G8: Fecha
C11: ADHESIVOS
A12: 13002 | B12: CONGO | C12: ADHESIVO VINILICO 500 gr | D12: 12 | E12: 3526.4 | G12: 46050
A13: 13008 | B13: CONGO | C13: ADHESIVO DE CONTACTO C-2100 40 ml | D13: 18 | E13: 2644.8 | G13: 46050
A14: 14180 | B14: 9931 | C14: PARCHE BICICLETA 24u (5x3 cm) +1 PEGAMEN | D14: 10 | E14: 2095.88 | G14: 46297
A15: 5017 | B15: TF3 | C15: ADHESIVO PARA PVC 60 cc | D15: 12 | E15: 1650.12 | G15: 46273
A16: 5018 | B16: TF3 | C16: ADHESIVO PARA PVC 110 cc | D16: 12 | E16: 2796.84 | G16: 46273
A17: 5019 | B17: TF3 | C17: ADHESIVO PARA PVC 250 cc | D17: 6 | E17: 6018.48 | G17: 46273
A18: 5020 | B18: TF3 | C18: CREMA ADHESIVA EPOXI BLANCA 150 Gr | D18: 12 | E18: 10319.91 | G18: 46273
A19: 5021 | B19: TF3 | C19: CREMA ADHESIVA EPOXI ACERO 200 Gr | D19: 12 | E19: 10319.91 | G19: 46273
A20: 5082 | B20: TF3 | C20: KIT REPARACION LONAS (PILETAS) | D20: 50 | E20: 2125.92 | G20: 46273
A21: 5099 | B21: TF3 | C21: ADHESIVO CONTACTO 50 CC (POMO) | D21: 24 | E21: 2089.67 | G21: 46273
A22: 5100 | B22: TF3 | C22: ADHESIVO VINILICO 125 G | D22: 12 | E22: 1182.52 | G22: 46273
A23: 5101 | B23: TF3 | C23: ADHESIVO VINILICO 250 G | D23: 12 | E23: 1987.28 | G23: 46273
A24: 5102 | B24: TF3 | C24: ADHESIVO VINILICO 500 G | D24: 12 | E24: 3444.29 | G24: 46273
A25: 5103 | B25: TF3 | C25: ADHESIVO VINILICO 1000 G | D25: 6 | E25: 6332.45 | G25: 46273
A26: 8012 | B26: PEGALO | C26: CIANOACRILATO FRASCO 10 Gr | D26: 10 | E26: 1959.29 | G26: 46268
... A30: 8024 | B30: PEGALO | C30: ADHESIVO DE CONTACTO 500cc | D30: 6 | E30: 7726.73 | G30: 46268
C31: ACCESORIOS
A32: 14182 | B32: 11546 | C32: PISTOLA APLICADORA CARTUCHO REFORZADA | D32: 0 | E32: 7538.01 | G32: 46297
C33: SELLADORES
A34: 5016 | B34: TF3 | C34: SELLADOR DE ROSCAS 25 cc | D34: 80 | E34: 1372.47 | G34: 46273
A35: 5066 | B35: TF3 | C35: AEROSOL POLIURETANO 300ml | D35: 12 | E35: 7704.4 | G35: 46273
A36: 5095 | B36: TF3 | C36: SELLADOR DE SILICONA 25 cm3 | D36: 40 | E36: 1694.05 | G36: 46273
A37: 8001 | B37: PEGALO | C37: SELLADOR SILICONA BLANCA CARTUCHO 280cc | D37: 24 | E37: 4122.32 | G37: 46268
A38: 8003 | B38: PEGALO | C38: SELLADOR SILICONAS ALTA TEMP CART 280 cc | D38: 24 | E38: 5700.32 | G38: 46268
A39: 8004 | B39: PEGALO | C39: SELLADOR SILICONA NEUTRA CARTUCHO 280 cc | D39: 24 | E39: 5246.22 | G39: 46268
A40: 8005 | B40: PEGALO | C40: ADHESIVO SILICONADO BARRAS FINO 7 * 300 | D40: 0 | E40: 13891.82 | G40: 46268
A41: 8006 | B41: PEGALO | C41: ADHESIVO SILICONADO BARRAS GRUESO 11*300 | D41: 0 | E41: 13891.82 | G41: 46268
A42: 8018 | B42: PEGALO | C42: ADHESIVO SELLADOR ZINGUERIA 280cc | D42: 24 | E42: 5810.05 | G42: 46268
A43: 8019 | B43: PEGALO | C43: SELLADOR SILICONA NEGRA CARTUCHO 280cc | D43: 24 | E43: 4122.32 | G43: 46268
A44: 8021 | B44: PEGALO | C44: SELLADOR SILICONA TRANSPARENTE CARTUCHO | D44: 24 | E44: 4122.32 | G44: 46268
A45: 8026 | B45: PEGALO | C45: SELLADOR ACRILICO 280cc PINTABLE | D45: 24 | E45: 3398.53 | G45: 46268
C47: CABOS
A49: 22000 | B49: MOISES | C49: CABO HACHITA VIZCAINA 35cm | D49: 12 | E49: 2126.87 | G49: 46297
A50: 22001 | B50: MOISES | C50: CABO MARTILLO CARPINTERO 30cm | D50: 12 | E50: 723.94 | G50: 46297
...
